BEGIN:VCALENDAR
VERSION:2.0
PRODID:-//Seedway - ECPv6.15.17.1//NONSGML v1.0//EN
CALSCALE:GREGORIAN
METHOD:PUBLISH
X-WR-CALNAME:Seedway
X-ORIGINAL-URL:https://www.seedway.com
X-WR-CALDESC:Events for Seedway
REFRESH-INTERVAL;VALUE=DURATION:PT1H
X-Robots-Tag:noindex
X-PUBLISHED-TTL:PT1H
BEGIN:VTIMEZONE
TZID:America/New_York
BEGIN:DAYLIGHT
TZOFFSETFROM:-0500
TZOFFSETTO:-0400
TZNAME:EDT
DTSTART:20200308T070000
END:DAYLIGHT
BEGIN:STANDARD
TZOFFSETFROM:-0400
TZOFFSETTO:-0500
TZNAME:EST
DTSTART:20201101T060000
END:STANDARD
BEGIN:DAYLIGHT
TZOFFSETFROM:-0500
TZOFFSETTO:-0400
TZNAME:EDT
DTSTART:20210314T070000
END:DAYLIGHT
BEGIN:STANDARD
TZOFFSETFROM:-0400
TZOFFSETTO:-0500
TZNAME:EST
DTSTART:20211107T060000
END:STANDARD
BEGIN:DAYLIGHT
TZOFFSETFROM:-0500
TZOFFSETTO:-0400
TZNAME:EDT
DTSTART:20220313T070000
END:DAYLIGHT
BEGIN:STANDARD
TZOFFSETFROM:-0400
TZOFFSETTO:-0500
TZNAME:EST
DTSTART:20221106T060000
END:STANDARD
BEGIN:DAYLIGHT
TZOFFSETFROM:-0500
TZOFFSETTO:-0400
TZNAME:EDT
DTSTART:20230312T070000
END:DAYLIGHT
BEGIN:STANDARD
TZOFFSETFROM:-0400
TZOFFSETTO:-0500
TZNAME:EST
DTSTART:20231105T060000
END:STANDARD
END:VTIMEZONE
BEGIN:VEVENT
DTSTART;TZID=America/New_York:20220209T080000
DTEND;TZID=America/New_York:20220210T170000
DTSTAMP:20260421T081758
CREATED:20220112T165253Z
LAST-MODIFIED:20220112T165253Z
UID:51757-1644393600-1644512400@www.seedway.com
SUMMARY:Iowa Specialty Producers Conference - Ankeny\, IA
DESCRIPTION:FFA Enrichment Center \n1055 SW Prairie Trail Pkwy  \nAnkeny\, IA 50023
URL:https://www.seedway.com/event/iowa-specialty-producers-conference-ankeny-ia/
CATEGORIES:Vegetable Seed Shows
ATTACH;FMTTYPE=image/png:https://www.seedway.com/app/uploads/2022/01/Iowa-Specialty-Producers-Conf.png
END:VEVENT
BEGIN:VEVENT
DTSTART;TZID=America/New_York:20220209T080000
DTEND;TZID=America/New_York:20220209T170000
DTSTAMP:20260421T081758
CREATED:20220118T123928Z
LAST-MODIFIED:20220118T123928Z
UID:51908-1644393600-1644426000@www.seedway.com
SUMMARY:Southern Illinois Fruit and Vegetable School - Mt. Vernon\, IL
DESCRIPTION:DoubletreeHotel & Conference Center \n222 Potomac Boulevard \nMt. Vernon\, IL 62864
URL:https://www.seedway.com/event/southern-illinois-fruit-and-vegetable-school-mt-vernon-il/
CATEGORIES:Vegetable Seed Shows
END:VEVENT
BEGIN:VEVENT
DTSTART;TZID=America/New_York:20220204T080000
DTEND;TZID=America/New_York:20220205T170000
DTSTAMP:20260421T081758
CREATED:20220103T195135Z
LAST-MODIFIED:20220103T195135Z
UID:51392-1643961600-1644080400@www.seedway.com
SUMMARY:Mar-Del 56th Annual Convention
DESCRIPTION:Hyatt Regency Chesapeake Bay Golf Resort \n100 Heron Blvd\, US-50 \nCambridge\, MD 21613
URL:https://www.seedway.com/event/mar-del-56th-annual-convention/
CATEGORIES:Vegetable Seed Shows
ATTACH;FMTTYPE=image/jpeg:https://www.seedway.com/app/uploads/2022/01/Mardel-Watermelon-Assoc.jpeg
END:VEVENT
BEGIN:VEVENT
DTSTART;TZID=America/New_York:20220201T080000
DTEND;TZID=America/New_York:20220203T170000
DTSTAMP:20260421T081758
CREATED:20211115T153500Z
LAST-MODIFIED:20211115T184156Z
UID:50110-1643702400-1643907600@www.seedway.com
SUMMARY:Mid-Atlantic Fruit and Vegetable Convention - Hershey\, PA
DESCRIPTION:Hershey Lodge \n325 University Drive \nHershey\, PA 17033
URL:https://www.seedway.com/event/mid-atlantic-fruit-and-vegetable-convention/
CATEGORIES:Vegetable Seed Shows
ATTACH;FMTTYPE=image/jpeg:https://www.seedway.com/app/uploads/2021/11/Mid-Atlantic-Fruit-and-Vegetable.jpg
END:VEVENT
BEGIN:VEVENT
DTSTART;TZID=America/New_York:20220128T080000
DTEND;TZID=America/New_York:20220130T170000
DTSTAMP:20260421T081758
CREATED:20211115T170148Z
LAST-MODIFIED:20211115T184119Z
UID:50140-1643356800-1643562000@www.seedway.com
SUMMARY:2022 GWA Annual Convention - St. Simons Island\, GA
DESCRIPTION:The King and Prince Beach & Golf Resort \n201 Arnold Road  \nSt. Simons Island\, GA 31522
URL:https://www.seedway.com/event/2022-gwa-annual-convention/
CATEGORIES:Vegetable Seed Shows
ATTACH;FMTTYPE=image/png:https://www.seedway.com/app/uploads/2021/11/gwa-logo-e1636995694481.png
END:VEVENT
BEGIN:VEVENT
DTSTART;TZID=America/New_York:20220118T070000
DTEND;TZID=America/New_York:20220119T160000
DTSTAMP:20260421T081758
CREATED:20211119T124647Z
LAST-MODIFIED:20211220T125340Z
UID:50280-1642489200-1642608000@www.seedway.com
SUMMARY:Indiana Horticultural Conference & Expo -  CANCELLED
DESCRIPTION:Marriott Indianapolis East\n\n\n\n7202 East 21st Street\n\nIndianapolis\, IN 46219
URL:https://www.seedway.com/event/indiana-horticultural-conference-expo-indianapolis-in/
CATEGORIES:Vegetable Seed Shows
ATTACH;FMTTYPE=image/png:https://www.seedway.com/app/uploads/2021/11/Indiana-Hort-Conference-e1637325995691.png
END:VEVENT
BEGIN:VEVENT
DTSTART;TZID=America/New_York:20220117T080000
DTEND;TZID=America/New_York:20220118T170000
DTSTAMP:20260421T081758
CREATED:20211115T160102Z
LAST-MODIFIED:20211115T183958Z
UID:50115-1642406400-1642525200@www.seedway.com
SUMMARY:Ohio Produce Network (OPGMA) - Columbus\, OH
DESCRIPTION:Columbus Airport Marriot \n1375 N Cassady Ave \nColumbus\, OH 43219
URL:https://www.seedway.com/event/ohio-produce-network-opgma/
CATEGORIES:Vegetable Seed Shows
ATTACH;FMTTYPE=image/jpeg:https://www.seedway.com/app/uploads/2021/11/opgma.jpg
END:VEVENT
BEGIN:VEVENT
DTSTART;TZID=America/New_York:20220114T080000
DTEND;TZID=America/New_York:20220116T170000
DTSTAMP:20260421T081758
CREATED:20211115T161137Z
LAST-MODIFIED:20211115T183911Z
UID:50121-1642147200-1642352400@www.seedway.com
SUMMARY:South Carolina Watermelon Association Annual Convention - Hilton Head Island\, SC
DESCRIPTION:Omni Hilton Head Oceanfront Resort \n23 Ocean Lane \n Hilton Head Island\, SC 29928
URL:https://www.seedway.com/event/south-carolina-watermelon-association-annual-convention/
CATEGORIES:Vegetable Seed Shows
ATTACH;FMTTYPE=image/png:https://www.seedway.com/app/uploads/2021/11/SC-Watermelon-Assoc-Logo-e1636992681194.png
END:VEVENT
BEGIN:VEVENT
DTSTART;TZID=America/New_York:20220112T083000
DTEND;TZID=America/New_York:20220112T163000
DTSTAMP:20260421T081758
CREATED:20211123T133855Z
LAST-MODIFIED:20211123T133855Z
UID:50425-1641976200-1642005000@www.seedway.com
SUMMARY:Illiana Vegetable Growers Symposium - Schererville\, IN
DESCRIPTION:Teibel’s Restaurant \n1775 US Highway 41 \nSchererville\, IN 46375
URL:https://www.seedway.com/event/illiana-vegetable-growers-symposium-schererville-in/
CATEGORIES:Vegetable Seed Shows
ATTACH;FMTTYPE=image/png:https://www.seedway.com/app/uploads/2021/11/Purdue-University-Extension-e1637674721216.png
END:VEVENT
BEGIN:VEVENT
DTSTART;TZID=America/New_York:20220111T080000
DTEND;TZID=America/New_York:20220113T140000
DTSTAMP:20260421T081758
CREATED:20211115T141813Z
LAST-MODIFIED:20220103T202052Z
UID:50089-1641888000-1642082400@www.seedway.com
SUMMARY:Empire State Producers Expo - VIRTUAL
DESCRIPTION:VIRTUAL
URL:https://www.seedway.com/event/empire-state-producers-expo/
CATEGORIES:Vegetable Seed Shows
ATTACH;FMTTYPE=image/png:https://www.seedway.com/app/uploads/2021/11/Empire-State-Producers-Expo-e1636985678481.png
END:VEVENT
BEGIN:VEVENT
DTSTART;TZID=America/New_York:20220107T080000
DTEND;TZID=America/New_York:20220108T170000
DTSTAMP:20260421T081758
CREATED:20211115T165141Z
LAST-MODIFIED:20211115T183731Z
UID:50137-1641542400-1641661200@www.seedway.com
SUMMARY:Great Plains Growers Conference - St Joseph\, MO
DESCRIPTION:Fulkerson Center – Missouri Western State University \n4525 Downs Drive \nSt Joseph\, MO 64507
URL:https://www.seedway.com/event/great-plains-growers-conference/
CATEGORIES:Vegetable Seed Shows
ATTACH;FMTTYPE=image/png:https://www.seedway.com/app/uploads/2021/11/Great-Plains-Growers-Conf-e1636995025131.png
END:VEVENT
BEGIN:VEVENT
DTSTART;TZID=America/New_York:20220105T080000
DTEND;TZID=America/New_York:20220107T170000
DTSTAMP:20260421T081758
CREATED:20211115T144104Z
LAST-MODIFIED:20211115T182845Z
UID:50101-1641369600-1641574800@www.seedway.com
SUMMARY:Illinois Specialty Crops Conference - Springfield\, IL
DESCRIPTION:Crowne Plaza Springfield – Convention Ctr\, an IHG Hotel \n3000 S Dirksen Pkwy \nSpringfield\, IL 62703
URL:https://www.seedway.com/event/illinois-specialty-crops-conference/
CATEGORIES:Vegetable Seed Shows
ATTACH;FMTTYPE=image/png:https://www.seedway.com/app/uploads/2021/11/IL-Specialty-Crops-Conference-e1636988207783.png
END:VEVENT
BEGIN:VEVENT
DTSTART;TZID=America/New_York:20220104T080000
DTEND;TZID=America/New_York:20220105T160000
DTSTAMP:20260421T081758
CREATED:20211115T154239Z
LAST-MODIFIED:20211115T182757Z
UID:50113-1641283200-1641398400@www.seedway.com
SUMMARY:Mid-Ohio Growers Meeting - Millersburg\, OH
DESCRIPTION:Mt. Hope Event Center \n8076 SR 241  \nMillersburg\, OH 44654
URL:https://www.seedway.com/event/mid-ohio-growers-meeting/
CATEGORIES:Vegetable Seed Shows
END:VEVENT
BEGIN:VEVENT
DTSTART;TZID=America/New_York:20220103T080000
DTEND;TZID=America/New_York:20220104T170000
DTSTAMP:20260421T081758
CREATED:20211115T153055Z
LAST-MODIFIED:20211115T182713Z
UID:50107-1641196800-1641315600@www.seedway.com
SUMMARY:Kentucky Fruit and Vegetable Conference - Bowling Green\, KY
DESCRIPTION:Holiday Inn University Plaza-Bowling Green\, an IHG Hotel \n1021 Wilkinson Trace \nBowling Green\, KY 42103
URL:https://www.seedway.com/event/kentucky-fruit-and-vegetable-conference/
CATEGORIES:Vegetable Seed Shows
ATTACH;FMTTYPE=image/webp:https://www.seedway.com/app/uploads/2021/11/Kentucky-Fruit-and-Veg.webp
END:VEVENT
BEGIN:VEVENT
DTSTART;TZID=America/New_York:20211207T080000
DTEND;TZID=America/New_York:20211209T170000
DTSTAMP:20260421T081758
CREATED:20211115T164600Z
LAST-MODIFIED:20211115T182628Z
UID:50134-1638864000-1639069200@www.seedway.com
SUMMARY:Great Lakes EXPO - Grand Rapids\, MI
DESCRIPTION:DeVos Place Convention Center \n303 Monroe Ave NW \nGrand Rapids\, MI 49503
URL:https://www.seedway.com/event/great-lakes-expo/
CATEGORIES:Vegetable Seed Shows
ATTACH;FMTTYPE=image/png:https://www.seedway.com/app/uploads/2021/11/Great-Lakes-Expo.png
END:VEVENT
BEGIN:VEVENT
DTSTART;TZID=America/New_York:20211202T100000
DTEND;TZID=America/New_York:20211202T153000
DTSTAMP:20260421T081758
CREATED:20211115T162624Z
LAST-MODIFIED:20211115T182548Z
UID:50126-1638439200-1638459000@www.seedway.com
SUMMARY:UF/IFAS Suwannee Valley Watermelon Institute - Fanning Springs\, FL
DESCRIPTION:Suwannee River Fair Facility \n17851 NW 90th Ave \nFanning Springs\, FL 32693
URL:https://www.seedway.com/event/uf-ifas-suwannee-valley-watermelon-institute/
CATEGORIES:Vegetable Seed Shows
ATTACH;FMTTYPE=image/jpeg:https://www.seedway.com/app/uploads/2021/11/UF-IFAS_Suwannee-Watermelon-Institute-1-e1636993567577.jpg
END:VEVENT
BEGIN:VEVENT
DTSTART;TZID=America/New_York:20211119T080000
DTEND;TZID=America/New_York:20211119T170000
DTSTAMP:20260421T081758
CREATED:20211115T161706Z
LAST-MODIFIED:20211115T182421Z
UID:50124-1637308800-1637341200@www.seedway.com
SUMMARY:Truck Patch Connection - West Salem\, OH
DESCRIPTION:County Line Produce Auction \n11701 Jeffrey Road \nWest Salem\, OH 44287
URL:https://www.seedway.com/event/truck-patch-connection/
CATEGORIES:Vegetable Seed Shows
END:VEVENT
BEGIN:VEVENT
DTSTART;TZID=America/New_York:20211117T080000
DTEND;TZID=America/New_York:20211118T170000
DTSTAMP:20260421T081758
CREATED:20211115T140740Z
LAST-MODIFIED:20211115T182346Z
UID:50082-1637136000-1637254800@www.seedway.com
SUMMARY:2021 Pacific Northwest Vegetable Association Annual Conference and Trade Show - Kennewick\, WA
DESCRIPTION:Three Rivers Convention Center \n7016 W Grandridge Blvd \nKennewick\, WA 99336
URL:https://www.seedway.com/event/2021-pacific-northwest-vegetable-association-annual-conference-and-trade-show/
CATEGORIES:Vegetable Seed Shows
ATTACH;FMTTYPE=image/jpeg:https://www.seedway.com/app/uploads/2021/11/PNVA-logo.jpg
END:VEVENT
END:VCALENDAR